BEGIN:VCALENDAR
VERSION:2.0
PRODID:-//Siostry Elżbietanki w Zielonej G&oacute;rze - ECPv6.9.0//NONSGML v1.0//EN
CALSCALE:GREGORIAN
METHOD:PUBLISH
X-WR-CALNAME:Siostry Elżbietanki w Zielonej G&oacute;rze
X-ORIGINAL-URL:https://www.n.elzbietanki.pl
X-WR-CALDESC:Events for Siostry Elżbietanki w Zielonej G&oacute;rze
REFRESH-INTERVAL;VALUE=DURATION:PT1H
X-Robots-Tag:noindex
X-PUBLISHED-TTL:PT1H
BEGIN:VTIMEZONE
TZID:UTC
BEGIN:STANDARD
TZOFFSETFROM:+0000
TZOFFSETTO:+0000
TZNAME:UTC
DTSTART:20240101T000000
END:STANDARD
END:VTIMEZONE
BEGIN:VEVENT
DTSTART;TZID=UTC:20250106T090000
DTEND;TZID=UTC:20250106T123000
DTSTAMP:20260420T130032
CREATED:20241203T071814Z
LAST-MODIFIED:20241203T071814Z
UID:2452-1736154000-1736166600@www.n.elzbietanki.pl
SUMMARY:Trzech Króli
DESCRIPTION:Zapraszamy na Święto Trzech Króli
URL:https://www.n.elzbietanki.pl/event/trzech-kroli/
CATEGORIES:Święta
ATTACH;FMTTYPE=image/jpeg:https://www.n.elzbietanki.pl/wp-content/uploads/2024/12/ciasteczka.jpg
END:VEVENT
BEGIN:VEVENT
DTSTART;TZID=UTC:20241224T120000
DTEND;TZID=UTC:20241224T140000
DTSTAMP:20260420T130032
CREATED:20241202T122328Z
LAST-MODIFIED:20241203T071613Z
UID:2440-1735041600-1735048800@www.n.elzbietanki.pl
SUMMARY:Wigilia
DESCRIPTION:Zapraszamy na uroczystą wigilię
URL:https://www.n.elzbietanki.pl/event/wigilia/
LOCATION:Wigilia
CATEGORIES:Święta
ATTACH;FMTTYPE=image/jpeg:https://www.n.elzbietanki.pl/wp-content/uploads/2024/12/ciasteczka.jpg
END:VEVENT
END:VCALENDAR